BEGIN:VCALENDAR
VERSION:2.0
PRODID:-//Tukios.com/
BEGIN:VEVENT
UID:eecd0c5d-73af-4d6d-bdbb-78cb2196a4bf@www.monroecountymemorialchapel.com
DTSTAMP:20260422T053952Z
DTSTART:20260424T150000Z
DTEND:20260424T160000Z
SUMMARY:Funeral Service
DESCRIPTION:
URL:https://www.monroecountymemorialchapel.com/obituaries/rita-gates
LOCATION:Maynard Baptist Church 1195 Juliette Rd  Forsyth GA 31029
GEO:33.0433011;-83.9075821
END:VEVENT
END:VCALENDAR