BEGIN:VCALENDAR
VERSION:2.0
PRODID:-//Tukios.com/
BEGIN:VEVENT
UID:2eb64c7c-5096-4b4a-b7f4-99b575cb3132@www.monroecountymemorialchapel.com
DTSTAMP:20260422T055007Z
DTSTART:20260423T210000Z
DTEND:20260423T230000Z
SUMMARY:Visitation
DESCRIPTION:
URL:https://www.monroecountymemorialchapel.com/obituaries/rita-gates
LOCATION:Monroe County Memorial Chapel 86 W Main St  Forsyth GA 31029
GEO:33.0338146;-83.9411808
END:VEVENT
END:VCALENDAR