BEGIN:VCALENDAR
VERSION:2.0
PRODID:-//Tukios.com/
BEGIN:VEVENT
UID:6ebc5e4a-fbb2-41ec-ba77-9ba080e66871@www.monroecountymemorialchapel.com
DTSTAMP:20260423T032811Z
DTSTART:20260427T170000Z
DTEND:20260427T180000Z
SUMMARY:Burial
DESCRIPTION:
URL:https://www.monroecountymemorialchapel.com/obituaries/jeraldine-samples
LOCATION:College Park Cemetery 3600 North Adams  College Park GA 30337
GEO:33.659805;-84.4421165
END:VEVENT
END:VCALENDAR