BEGIN:VCALENDAR
VERSION:2.0
PRODID:-//Tukios.com/
BEGIN:VEVENT
UID:30c536ca-c66e-4cd0-b230-89ac86b8b7d4@www.monroecountymemorialchapel.com
DTSTAMP:20260423T032935Z
DTSTART:20260425T200000Z
DTEND:20260425T210000Z
SUMMARY:Funeral Service
DESCRIPTION:
URL:https://www.monroecountymemorialchapel.com/obituaries/jeraldine-samples
LOCATION:Monroe County Memorial Chapel 86 W Main St  Forsyth GA 31029
GEO:33.0338146;-83.9411808
END:VEVENT
END:VCALENDAR