BEGIN:VCALENDAR
VERSION:2.0
PRODID:-//Tukios.com/
BEGIN:VEVENT
UID:b62efa40-6408-4818-92e6-382afec45243@www.monroecountymemorialchapel.com
DTSTAMP:20260423T032935Z
DTSTART:20260425T180000Z
DTEND:20260425T200000Z
SUMMARY:Visitation
DESCRIPTION:
URL:https://www.monroecountymemorialchapel.com/obituaries/jeraldine-samples
LOCATION:Monroe County Memorial Chapel 86 W Main St  Forsyth GA 31029
GEO:33.0338146;-83.9411808
END:VEVENT
END:VCALENDAR