BEGIN:VCALENDAR
VERSION:2.0
PRODID:-//Tukios.com/
BEGIN:VEVENT
UID:62a8ea3a-7701-4dbb-bb20-abb2ec87d770@www.monroecountymemorialchapel.com
DTSTAMP:20260421T070717Z
DTSTART:20260425T170000Z
DTEND:20260425T180000Z
SUMMARY:Funeral Service
DESCRIPTION:
URL:https://www.monroecountymemorialchapel.com/obituaries/arthur-vickers
LOCATION: Hwy 41  Forsyth GA 31029
GEO:33.0303077;-83.9287213
END:VEVENT
END:VCALENDAR